BEGIN:VCALENDAR
VERSION:2.0
PRODID:-//https://cnppm.iro51.ru//NONSGML kigkonsult.se iCalcreator 2.29.14
 //
CALSCALE:GREGORIAN
METHOD:PUBLISH
UID:5549fb35-7ef2-4c95-a35b-009f39d2d98f
X-WR-CALNAME:JCal Pro Calendar
X-WR-CALDESC:Your online events calendar
X-WR-TIMEZONE:Europe/Moscow
BEGIN:VTIMEZONE
TZID:Europe/Moscow
BEGIN:STANDARD
TZNAME:MSK
DTSTART:20240719T020255
TZOFFSETFROM:+0000
TZOFFSETTO:+0300
END:STANDARD
END:VTIMEZONE
BEGIN:VEVENT
UID:20220214T150000MSK-67922IjwBx@https://cnppm.iro51.ru/
DTSTAMP:20260420T020255Z
CATEGORIES:Вебинар
DESCRIPTION:<p>Целевая аудитория: педагоги<br />Ссылка на участие:<a href='
 https://uchitel.club/'><strong>https://uchitel.club/</strong></a></p>
DTSTART;TZID=Europe/Moscow:20220214T140000
DTEND;TZID=Europe/Moscow:20220214T140000
SUMMARY:Вебинар «Формирование у младших школьников элементарных представлен
 ий о правилах создания гармоничной предметной среды»
URL:https://cnppm.iro51.ru/kalendar-sobytij/23-vebinar/21-vebinar-formirova
 nie-u-mladshikh-shkolnikov-elementarnykh-predstavlenij-o-pravilakh-sozdani
 ya-garmonichnoj-predmetnoj-sredy.html
X-ALT-DESC;FMTTYPE=TEXT/HTML:<p>Целевая аудитория: педагоги<br />Ссылка на 
 участие:<a href='https://uchitel.club/'><strong>https://uchitel.club/</str
 ong></a></p>
END:VEVENT
BEGIN:VEVENT
UID:20220215T150000MSK-6449rvHXp9@https://cnppm.iro51.ru/
DTSTAMP:20260420T020255Z
CATEGORIES:Вебинар
DESCRIPTION:<p>Целевая аудитория: педагоги<br />Ссылка на участие:<a href='
 https://uchitel.club/'><strong>https://uchitel.club/</strong></a></p>
DTSTART;TZID=Europe/Moscow:20220215T150000
DTEND;TZID=Europe/Moscow:20220215T150000
SUMMARY:Вебинар «Новый ФГОС – акцент на метапредметность» (английский язык)
URL:https://cnppm.iro51.ru/kalendar-sobytij/23-vebinar/22-vebinar-novyj-fgo
 s-aktsent-na-metapredmetnost.html
X-ALT-DESC;FMTTYPE=TEXT/HTML:<p>Целевая аудитория: педагоги<br />Ссылка на 
 участие:<a href='https://uchitel.club/'><strong>https://uchitel.club/</str
 ong></a></p>
END:VEVENT
BEGIN:VEVENT
UID:20220216T130000MSK-2163ivnVAK@https://cnppm.iro51.ru/
DTSTAMP:20260420T020255Z
CATEGORIES:Конференция
DESCRIPTION:<p>Целевая аудитория: педагоги<br />Ссылка на участие:<a href='
 https://uchitel.club/'><strong>https://uchitel.club/</strong></a></p>
DTSTART;TZID=Europe/Moscow:20220216T130000
DTEND;TZID=Europe/Moscow:20220216T170000
SUMMARY:Онлайн-конференция «Готовимся к ВПР по английскому языку. Мониторин
 г и диагностика образовательных результатов обучающихся. 7 класс.»
URL:https://cnppm.iro51.ru/kalendar-sobytij/28-konferentsiya/23-onlajn-konf
 erentsiya-gotovimsya-k-vpr-po-anglijskomu-yazyku-monitoring-i-diagnostika-
 obrazovatelnykh-rezultatov-obuchayushchikhsya-7-klass.html
X-ALT-DESC;FMTTYPE=TEXT/HTML:<p>Целевая аудитория: педагоги<br />Ссылка на 
 участие:<a href='https://uchitel.club/'><strong>https://uchitel.club/</str
 ong></a></p>
END:VEVENT
BEGIN:VEVENT
UID:20220217T150000MSK-5164WU8xVC@https://cnppm.iro51.ru/
DTSTAMP:20260420T020255Z
CATEGORIES:Конференция
DESCRIPTION:<p>Целевая аудитория: педагоги<br />Ссылка на участие:<a href='
 https://uchitel.club/'><strong>https://uchitel.club/</strong></a></p>
DTSTART;TZID=Europe/Moscow:20220217T120000
DTEND;TZID=Europe/Moscow:20220217T173000
SUMMARY:Онлайн-конференция «Инклюзивное измерение современного образователь
 ного пространства»
URL:https://cnppm.iro51.ru/kalendar-sobytij/28-konferentsiya/24-onlajn-konf
 erentsiya-inklyuzivnoe-izmerenie-sovremennogo-obrazovatelnogo-prostranstva
 .html
X-ALT-DESC;FMTTYPE=TEXT/HTML:<p>Целевая аудитория: педагоги<br />Ссылка на 
 участие:<a href='https://uchitel.club/'><strong>https://uchitel.club/</str
 ong></a></p>
END:VEVENT
BEGIN:VEVENT
UID:20220218T150000MSK-2330pZmd0V@https://cnppm.iro51.ru/
DTSTAMP:20260420T020255Z
CATEGORIES:Вебинар
DESCRIPTION:<p>Целевая аудитория: педагоги<br />Ссылка на участие:<a href='
 https://uchitel.club/'><strong>https://uchitel.club/</strong></a></p>
DTSTART;TZID=Europe/Moscow:20220218T140000
DTEND;TZID=Europe/Moscow:20220218T140000
SUMMARY:Вебинар «Раннее психолого-педагогическое сопровождение семьи ребенк
 а с ОВЗ»
URL:https://cnppm.iro51.ru/kalendar-sobytij/23-vebinar/25-vebinar-rannee-ps
 ikhologo-pedagogicheskoe-soprovozhdenie-semi-rebenka-s-ovz.html
X-ALT-DESC;FMTTYPE=TEXT/HTML:<p>Целевая аудитория: педагоги<br />Ссылка на 
 участие:<a href='https://uchitel.club/'><strong>https://uchitel.club/</str
 ong></a></p>
END:VEVENT
BEGIN:VEVENT
UID:20220218T150000MSK-79437skETx@https://cnppm.iro51.ru/
DTSTAMP:20260420T020255Z
CATEGORIES:Вебинар
DESCRIPTION:<p>Целевая аудитория: педагоги<br />Ссылка на участие:<a href='
 https://uchitel.club/'><strong>https://uchitel.club/</strong></a></p>
DTSTART;TZID=Europe/Moscow:20220218T170000
DTEND;TZID=Europe/Moscow:20220218T170000
SUMMARY:Вебинар «Учебная мотивация подростка с ОВЗ. Как эффективно выстроит
 ь работу со знаниями и навыками?»
URL:https://cnppm.iro51.ru/kalendar-sobytij/23-vebinar/26-vebinar-uchebnaya
 -motivatsiya-podrostka-s-ovz-kak-effektivno-vystroit-rabotu-so-znaniyami-i
 -navykami.html
X-ALT-DESC;FMTTYPE=TEXT/HTML:<p>Целевая аудитория: педагоги<br />Ссылка на 
 участие:<a href='https://uchitel.club/'><strong>https://uchitel.club/</str
 ong></a></p>
END:VEVENT
BEGIN:VEVENT
UID:20220222T150000MSK-9657r9eBUz@https://cnppm.iro51.ru/
DTSTAMP:20260420T020255Z
CATEGORIES:Вебинар
DESCRIPTION:<p>Целевая аудитория: педагоги<br />Ссылка на участие:<a href='
 https://uchitel.club/'><strong>https://uchitel.club/</strong></a></p>
DTSTART;TZID=Europe/Moscow:20220221T123000
DTEND;TZID=Europe/Moscow:20220221T123000
SUMMARY:Вебинар «Функциональная грамотность как институт формирования 4К-ко
 мпетенций»
URL:https://cnppm.iro51.ru/kalendar-sobytij/23-vebinar/27-vebinar-funktsion
 alnaya-gramotnost-kak-institut-formirovaniya-4k-kompetentsij.html
X-ALT-DESC;FMTTYPE=TEXT/HTML:<p>Целевая аудитория: педагоги<br />Ссылка на 
 участие:<a href='https://uchitel.club/'><strong>https://uchitel.club/</str
 ong></a></p>
END:VEVENT
BEGIN:VEVENT
UID:20220222T110000MSK-5684sx9Dnn@https://cnppm.iro51.ru/
DTSTAMP:20260420T020255Z
CATEGORIES:Форум
DESCRIPTION:<p>Целевая аудитория: педагоги<br />Регистрация:<a href='http:/
 /www.kripkro.ru/'>http://www.kripkro.ru/</a><br /><br /></p>
DTSTART;TZID=Europe/Moscow:20220222T110000
DTEND;TZID=Europe/Moscow:20220222T110000
SUMMARY:Межрегиональный форум «Роль современного образования в трансляции к
 ультурного наследия и родных языков»
URL:https://cnppm.iro51.ru/kalendar-sobytij/25-forum/28-mezhregionalnyj-for
 um-rol-sovremennogo-obrazovaniya-v-translyatsii-kulturnogo-naslediya-i-rod
 nykh-yazykov.html
X-ALT-DESC;FMTTYPE=TEXT/HTML:<p>Целевая аудитория: педагоги<br />Регистраци
 я:<a href='http://www.kripkro.ru/'>http://www.kripkro.ru/</a><br /><br /><
 /p>
END:VEVENT
BEGIN:VEVENT
UID:20220224T140000MSK-5761ofmE4R@https://cnppm.iro51.ru/
DTSTAMP:20260420T020255Z
CATEGORIES:Вебинар
DESCRIPTION:<p>Целевая аудитория: педагоги<br />Ссылка на участие:<a href='
 https://uchitel.club/'><strong>https://uchitel.club/</strong></a></p>
DTSTART;TZID=Europe/Moscow:20220224T140000
DTEND;TZID=Europe/Moscow:20220224T140000
SUMMARY:Вебинар «Марафон по читательской грамотности «Читаем для жизни»- до
 стижения\, трудности\, перспективы»
URL:https://cnppm.iro51.ru/kalendar-sobytij/23-vebinar/29-vebinar-marafon-p
 o-chitatelskoj-gramotnosti-chitaem-dlya-zhizni-dostizheniya-trudnosti-pers
 pektivy.html
X-ALT-DESC;FMTTYPE=TEXT/HTML:<p>Целевая аудитория: педагоги<br />Ссылка на 
 участие:<a href='https://uchitel.club/'><strong>https://uchitel.club/</str
 ong></a></p>
END:VEVENT
BEGIN:VEVENT
UID:20220225T110000MSK-0612M8Gzwf@https://cnppm.iro51.ru/
DTSTAMP:20260420T020255Z
CATEGORIES:Вебинар
DESCRIPTION:<p>Целевая аудитория: педагоги<br />Ссылка на участие:<a href='
 https://uchitel.club/'><strong>https://uchitel.club/</strong></a></p>
DTSTART;TZID=Europe/Moscow:20220225T110000
DTEND;TZID=Europe/Moscow:20220225T110000
SUMMARY:Вебинар «Проектная работа в образовательной деятельности»
URL:https://cnppm.iro51.ru/kalendar-sobytij/23-vebinar/30-vebinar-proektnay
 a-rabota-v-obrazovatelnoj-deyatelnosti.html
X-ALT-DESC;FMTTYPE=TEXT/HTML:<p>Целевая аудитория: педагоги<br />Ссылка на 
 участие:<a href='https://uchitel.club/'><strong>https://uchitel.club/</str
 ong></a></p>
END:VEVENT
BEGIN:VEVENT
UID:20220228T153000MSK-7507lfMKwG@https://cnppm.iro51.ru/
DTSTAMP:20260420T020255Z
CATEGORIES:Вебинар
DESCRIPTION:<p>Целевая аудитория: педагоги<br />Ссылка на участие:<a href='
 https://uchitel.club/'><strong>https://uchitel.club/</strong></a></p>
DTSTART;TZID=Europe/Moscow:20220228T153000
DTEND;TZID=Europe/Moscow:20220228T153000
SUMMARY:Вебинар «ОГЭ-2022 по физике. Как выстроить подготовку в новом форма
 те»
URL:https://cnppm.iro51.ru/kalendar-sobytij/23-vebinar/31-vebinar-oge-2022-
 po-fizike-kak-vystroit-podgotovku-v-novom-formate.html
X-ALT-DESC;FMTTYPE=TEXT/HTML:<p>Целевая аудитория: педагоги<br />Ссылка на 
 участие:<a href='https://uchitel.club/'><strong>https://uchitel.club/</str
 ong></a></p>
END:VEVENT
END:VCALENDAR
