BEGIN:VCALENDAR
VERSION:2.0
PRODID:-//https://cnppm.iro51.ru//NONSGML kigkonsult.se iCalcreator 2.29.14
 //
CALSCALE:GREGORIAN
METHOD:PUBLISH
UID:0fd259ed-fcbb-4a10-acd5-c75d6afcf510
X-WR-CALNAME:JCal Pro Calendar
X-WR-CALDESC:Your online events calendar
X-WR-TIMEZONE:Europe/Moscow
BEGIN:VTIMEZONE
TZID:Europe/Moscow
BEGIN:STANDARD
TZNAME:MSK
DTSTART:20240721T035854
TZOFFSETFROM:+0000
TZOFFSETTO:+0300
END:STANDARD
END:VTIMEZONE
BEGIN:VEVENT
UID:20220215T150000MSK-6449rvHXp9@https://cnppm.iro51.ru/
DTSTAMP:20260422T035854Z
CATEGORIES:Вебинар
DESCRIPTION:<p>Целевая аудитория: педагоги<br />Ссылка на участие:<a href='
 https://uchitel.club/'><strong>https://uchitel.club/</strong></a></p>
DTSTART;TZID=Europe/Moscow:20220215T150000
DTEND;TZID=Europe/Moscow:20220215T150000
SUMMARY:Вебинар «Новый ФГОС – акцент на метапредметность» (английский язык)
URL:https://cnppm.iro51.ru/kalendar-sobytij/23-vebinar/22-vebinar-novyj-fgo
 s-aktsent-na-metapredmetnost.html
X-ALT-DESC;FMTTYPE=TEXT/HTML:<p>Целевая аудитория: педагоги<br />Ссылка на 
 участие:<a href='https://uchitel.club/'><strong>https://uchitel.club/</str
 ong></a></p>
END:VEVENT
END:VCALENDAR
