BEGIN:VCALENDAR
VERSION:2.0
PRODID:-//https://cnppm.iro51.ru//NONSGML kigkonsult.se iCalcreator 2.29.14
 //
CALSCALE:GREGORIAN
METHOD:PUBLISH
UID:8b6c1f23-f75d-41ca-ac5a-231125b3bffa
X-WR-CALNAME:JCal Pro Calendar
X-WR-CALDESC:Your online events calendar
X-WR-TIMEZONE:Europe/Moscow
BEGIN:VTIMEZONE
TZID:Europe/Moscow
BEGIN:STANDARD
TZNAME:MSK
DTSTART:20240721T040228
TZOFFSETFROM:+0000
TZOFFSETTO:+0300
END:STANDARD
END:VTIMEZONE
BEGIN:VEVENT
UID:20220606T170000MSK-0540unc7Fz@https://cnppm.iro51.ru/
DTSTAMP:20260422T040228Z
CATEGORIES:Вебинар
DESCRIPTION:<p>Целевая аудитория: педагоги<br />Ссылка на участие:<a href='
 https://uchitel.club/'><strong></strong></a><strong><a href='https://uchit
 el.club/'></a><a href='http://mpgu.su/anonsyi/lekcija-diskussija-novaja-ku
 ltura-patriotizma-potencial-urokov-istorii-v-ee-razvitii-i-obogashhenii/'>
 </a><a href='https://uchitel.club/'></a><a href='https://uchitel.club/'></
 a><a href='https://uchitel.club/'></a><a href='https://uchitel.club/events
 /izucaem-russkii-yazyk-kak-o-sloznom-rasskazat-prosto-i-uvlekatelno'>https
 ://uchitel.club/</a></strong></p>
DTSTART;TZID=Europe/Moscow:20220606T170000
DTEND;TZID=Europe/Moscow:20220606T180000
SUMMARY:Изучаем русский язык: как о сложном рассказать просто и увлекательн
 о?
URL:https://cnppm.iro51.ru/kalendar-sobytij/23-vebinar/48-izuchaem-russkij-
 yazyk-kak-o-slozhnom-rasskazat-prosto-i-uvlekatelno.html
X-ALT-DESC;FMTTYPE=TEXT/HTML:<p>Целевая аудитория: педагоги<br />Ссылка на 
 участие:<a href='https://uchitel.club/'><strong></strong></a><strong><a hr
 ef='https://uchitel.club/'></a><a href='http://mpgu.su/anonsyi/lekcija-dis
 kussija-novaja-kultura-patriotizma-potencial-urokov-istorii-v-ee-razvitii-
 i-obogashhenii/'></a><a href='https://uchitel.club/'></a><a href='https://
 uchitel.club/'></a><a href='https://uchitel.club/'></a><a href='https://uc
 hitel.club/events/izucaem-russkii-yazyk-kak-o-sloznom-rasskazat-prosto-i-u
 vlekatelno'>https://uchitel.club/</a></strong></p>
END:VEVENT
END:VCALENDAR
