BEGIN:VCALENDAR
VERSION:2.0
PRODID:-//https://cnppm.iro51.ru//NONSGML kigkonsult.se iCalcreator 2.29.14
 //
CALSCALE:GREGORIAN
METHOD:PUBLISH
UID:9c51e7b0-bd2c-4cfc-8bae-5c4c627cfbbf
X-WR-CALNAME:JCal Pro Calendar
X-WR-CALDESC:Your online events calendar
X-WR-TIMEZONE:Europe/Moscow
BEGIN:VTIMEZONE
TZID:Europe/Moscow
BEGIN:STANDARD
TZNAME:MSK
DTSTART:20240720T092040
TZOFFSETFROM:+0000
TZOFFSETTO:+0300
END:STANDARD
END:VTIMEZONE
BEGIN:VEVENT
UID:20221007T150000MSK-9828pIV7EK@https://cnppm.iro51.ru/
DTSTAMP:20260421T092040Z
CATEGORIES:Вебинар
DESCRIPTION:<p>Регитрация&nbsp\;<a href='https://uchitel.club/events/organi
 zaciya-sovremennogo-obrazovatelnogo-processa-i-razlicnye-formy-kontrolya-p
 o-russkomu-yazyku-i-literaturnomu-cteniyu-v-nacalnoi-skole-v-usloviyax-rea
 lizacii-obnovlyonnyx-fgos-1'>https://uchitel.club/events</a></p>
DTSTART;TZID=Europe/Moscow:20221007T150000
DTEND;TZID=Europe/Moscow:20221007T160000
SUMMARY:Вебинар «Организация современного образовательного процесса и разли
 чные формы контроля в начальной школе в условиях реализации обновлённых ФГ
 ОС»
URL:https://cnppm.iro51.ru/kalendar-sobytij/23-vebinar/65-vebinar-organizat
 siya-sovremennogo-obrazovatelnogo-protsessa-i-razlichnye-formy-kontrolya-v
 -nachalnoj-shkole-v-usloviyakh-realizatsii-obnovljonnykh-fgos.html
X-ALT-DESC;FMTTYPE=TEXT/HTML:<p>Регитрация&nbsp\;<a href='https://uchitel.c
 lub/events/organizaciya-sovremennogo-obrazovatelnogo-processa-i-razlicnye-
 formy-kontrolya-po-russkomu-yazyku-i-literaturnomu-cteniyu-v-nacalnoi-skol
 e-v-usloviyax-realizacii-obnovlyonnyx-fgos-1'>https://uchitel.club/events<
 /a></p>
END:VEVENT
END:VCALENDAR
