BEGIN:VCALENDAR
VERSION:2.0
PRODID:-//https://cnppm.iro51.ru//NONSGML kigkonsult.se iCalcreator 2.29.14
 //
CALSCALE:GREGORIAN
METHOD:PUBLISH
UID:408ea145-6440-4547-9579-29109aeec199
X-WR-CALNAME:JCal Pro Calendar
X-WR-CALDESC:Your online events calendar
X-WR-TIMEZONE:Europe/Moscow
BEGIN:VTIMEZONE
TZID:Europe/Moscow
BEGIN:STANDARD
TZNAME:MSK
DTSTART:20240719T071931
TZOFFSETFROM:+0000
TZOFFSETTO:+0300
END:STANDARD
END:VTIMEZONE
BEGIN:VEVENT
UID:20220526T130000MSK-6752IUAN7I@https://cnppm.iro51.ru/
DTSTAMP:20260420T071931Z
CATEGORIES:Семинар
DESCRIPTION:<p>Целевая аудитория:&nbsp\;Педагогические работники общеобразо
 вательных организаций<br />Ссылка на регистрацию:<a href='https://ez.iro51
 .ru/activity/registration/sr/265'>https://ez.iro51.ru/activity/registratio
 n/sr/265</a></p>
DTSTART;TZID=Europe/Moscow:20220516T120000
DTEND;TZID=Europe/Moscow:20220516T140000
SUMMARY:Педагогические условия достижения высокого уровня глобальных компет
 енций обучающихся
URL:https://cnppm.iro51.ru/kalendar-sobytij/24-seminar/32-pedagogicheskie-u
 sloviya-dostizheniya-vysokogo-urovnya-globalnykh-kompetentsij-obuchayushch
 ikhsya.html
X-ALT-DESC;FMTTYPE=TEXT/HTML:<p>Целевая аудитория:&nbsp\;Педагогические раб
 отники общеобразовательных организаций<br />Ссылка на регистрацию:<a href=
 'https://ez.iro51.ru/activity/registration/sr/265'>https://ez.iro51.ru/act
 ivity/registration/sr/265</a></p>
END:VEVENT
END:VCALENDAR
