BEGIN:VCALENDAR
VERSION:2.0
PRODID:-//https://cnppm.iro51.ru//NONSGML kigkonsult.se iCalcreator 2.29.14
 //
CALSCALE:GREGORIAN
METHOD:PUBLISH
UID:3c9bef35-9089-4467-a9b0-7a5807089ccd
X-WR-CALNAME:JCal Pro Calendar
X-WR-CALDESC:Your online events calendar
X-WR-TIMEZONE:Europe/Moscow
BEGIN:VTIMEZONE
TZID:Europe/Moscow
BEGIN:STANDARD
TZNAME:MSK
DTSTART:20240719T185348
TZOFFSETFROM:+0000
TZOFFSETTO:+0300
END:STANDARD
END:VTIMEZONE
BEGIN:VEVENT
UID:20220926T090000MSK-62349FwrAh@https://cnppm.iro51.ru/
DTSTAMP:20260420T185348Z
CATEGORIES:Семинар
DESCRIPTION:<p>Регистрация&nbsp\;<a href='https://iro51.ru/napravlenie-deya
 telnosti/metodicheskie-meropriyatiya/vebinary/4524-o-regionalnom-vebinare-
 nepreryvnoe-obrazovanie-pedagoga-kak-osnovnoj-faktor-povysheniya-kachestva
 -obrazovaniya-v-shkole.html'>https://iro51.ru/napravlenie-deyatelnosti/</a
 ></p>
DTSTART;TZID=Europe/Moscow:20221010T090000
DTEND;TZID=Europe/Moscow:20221010T100000
SUMMARY:Непрерывное образование педагога как основной фактор повышения каче
 ства образования в школе
URL:https://cnppm.iro51.ru/kalendar-sobytij/24-seminar/58-nepreryvnoe-obraz
 ovanie-pedagoga-kak-osnovnoj-faktor-povysheniya-kachestva-obrazovaniya-v-s
 hkole.html
X-ALT-DESC;FMTTYPE=TEXT/HTML:<p>Регистрация&nbsp\;<a href='https://iro51.ru
 /napravlenie-deyatelnosti/metodicheskie-meropriyatiya/vebinary/4524-o-regi
 onalnom-vebinare-nepreryvnoe-obrazovanie-pedagoga-kak-osnovnoj-faktor-povy
 sheniya-kachestva-obrazovaniya-v-shkole.html'>https://iro51.ru/napravlenie
 -deyatelnosti/</a></p>
END:VEVENT
END:VCALENDAR
