BEGIN:VCALENDAR
VERSION:2.0
PRODID:-//https://cnppm.iro51.ru//NONSGML kigkonsult.se iCalcreator 2.29.14
 //
CALSCALE:GREGORIAN
METHOD:PUBLISH
UID:e1edb47f-2d87-4252-bea2-b9fdda2a1aca
X-WR-CALNAME:JCal Pro Calendar
X-WR-CALDESC:Your online events calendar
X-WR-TIMEZONE:Europe/Moscow
BEGIN:VTIMEZONE
TZID:Europe/Moscow
BEGIN:STANDARD
TZNAME:MSK
DTSTART:20240719T183921
TZOFFSETFROM:+0000
TZOFFSETTO:+0300
END:STANDARD
END:VTIMEZONE
BEGIN:VEVENT
UID:20221004T100000MSK-5538IDkdZP@https://cnppm.iro51.ru/
DTSTAMP:20260420T183921Z
CATEGORIES:Семинар
DESCRIPTION:<p><span style='font-size: 12pt\;'>Регистрация <a href='https:/
 /apkpro.ru/educational-events/prezentatsiya-vserossiyskoy-prosvetitelskoy-
 ekspeditsii-ot-uchitelya-k-uchenomu-dorogami-grazhdanstv/'><span style='co
 lor: #3366ff\;'>по ссылке</span></a></span></p>
DTSTART;TZID=Europe/Moscow:20221004T100000
DTEND;TZID=Europe/Moscow:20221004T110000
SUMMARY:Презентация Всероссийской просветительской экспедиции «От учителя к
  ученому. Дорогами гражданственности»
URL:https://cnppm.iro51.ru/kalendar-sobytij/24-seminar/62-prezentatsiya-vse
 rossijskoj-prosvetitelskoj-ekspeditsii-ot-uchitelya-k-uchenomu-dorogami-gr
 azhdanstvennosti.html
X-ALT-DESC;FMTTYPE=TEXT/HTML:<p><span style='font-size: 12pt\;'>Регистрация
  <a href='https://apkpro.ru/educational-events/prezentatsiya-vserossiyskoy
 -prosvetitelskoy-ekspeditsii-ot-uchitelya-k-uchenomu-dorogami-grazhdanstv/
 '><span style='color: #3366ff\;'>по ссылке</span></a></span></p>
END:VEVENT
END:VCALENDAR
