BEGIN:VCALENDAR
VERSION:2.0
PRODID:-//https://cnppm.iro51.ru//NONSGML kigkonsult.se iCalcreator 2.29.14
 //
CALSCALE:GREGORIAN
METHOD:PUBLISH
UID:d486a014-ddc7-4083-8825-aa971e511909
X-WR-CALNAME:JCal Pro Calendar
X-WR-CALDESC:Your online events calendar
X-WR-TIMEZONE:Europe/Moscow
BEGIN:VTIMEZONE
TZID:Europe/Moscow
BEGIN:STANDARD
TZNAME:MSK
DTSTART:20240719T184642
TZOFFSETFROM:+0000
TZOFFSETTO:+0300
END:STANDARD
END:VTIMEZONE
BEGIN:VEVENT
UID:20211001T160000MSK-3068jFO1NL@https://cnppm.iro51.ru/
DTSTAMP:20260420T184642Z
CATEGORIES:Семинар
DESCRIPTION:<p>Целевая аудитория: учителя и преподаватели русского языка<br
  />Организатор: ГАУДПО МО «Институт развития образования»<br />Регистрация
 : <a href='https://ez.iro51.ru/activity/registration/sr/110'>https://ez.ir
 o51.ru/activity/registration/sr/110</a></p>\n<p> </p>
DTSTART;TZID=Europe/Moscow:20211001T090000
DTEND;TZID=Europe/Moscow:20211001T180000
SUMMARY:Семинар «Преподавание родного языка и родной литературы в общеобраз
 овательных организациях Мурманской области: опыт\, проблемы\, перспективы»
URL:https://cnppm.iro51.ru/kalendar-sobytij/24-seminar/8-seminar-prepodavan
 ie-rodnogo-yazyka-i-rodnoj-literatury-v-obshcheobrazovatelnykh-organizatsi
 yakh-murmanskoj-oblasti-opyt-problemy-perspektivy.html
X-ALT-DESC;FMTTYPE=TEXT/HTML:<p>Целевая аудитория: учителя и преподаватели 
 русского языка<br />Организатор: ГАУДПО МО «Институт развития образования»
 <br />Регистрация: <a href='https://ez.iro51.ru/activity/registration/sr/1
 10'>https://ez.iro51.ru/activity/registration/sr/110</a></p>\n<p> </p>
END:VEVENT
END:VCALENDAR
