BEGIN:VCALENDAR
VERSION:2.0
PRODID:-//https://cnppm.iro51.ru//NONSGML kigkonsult.se iCalcreator 2.29.14
 //
CALSCALE:GREGORIAN
METHOD:PUBLISH
UID:c491903e-db3c-4524-89b4-8e6feb4b729e
X-WR-CALNAME:JCal Pro Calendar
X-WR-CALDESC:Your online events calendar
X-WR-TIMEZONE:Europe/Moscow
BEGIN:VTIMEZONE
TZID:Europe/Moscow
BEGIN:STANDARD
TZNAME:MSK
DTSTART:20240719T183710
TZOFFSETFROM:+0000
TZOFFSETTO:+0300
END:STANDARD
END:VTIMEZONE
BEGIN:VEVENT
UID:20221014T130000MSK-7300UBh46P@https://cnppm.iro51.ru/
DTSTAMP:20260420T183710Z
CATEGORIES:Семинар
DESCRIPTION:<p>Регистрация&nbsp\;<a href='https://apkpro.ru/educational-eve
 nts/seminar-pedagogicheskaya-laboratoriya-kak-eto-sdelano-sostoitsya-14-ok
 tyabrya/'>https://apkpro.ru/educational-events/</a></p>
DTSTART;TZID=Europe/Moscow:20221014T130000
DTEND;TZID=Europe/Moscow:20221014T140000
SUMMARY:Семинар «Педагогическая лаборатория: как это сделано»
URL:https://cnppm.iro51.ru/kalendar-sobytij/24-seminar/84-seminar-pedagogic
 heskaya-laboratoriya-kak-eto-sdelano.html
X-ALT-DESC;FMTTYPE=TEXT/HTML:<p>Регистрация&nbsp\;<a href='https://apkpro.r
 u/educational-events/seminar-pedagogicheskaya-laboratoriya-kak-eto-sdelano
 -sostoitsya-14-oktyabrya/'>https://apkpro.ru/educational-events/</a></p>
END:VEVENT
END:VCALENDAR
