BEGIN:VCALENDAR
VERSION:2.0
PRODID:-//https://cnppm.iro51.ru//NONSGML kigkonsult.se iCalcreator 2.29.14
 //
CALSCALE:GREGORIAN
METHOD:PUBLISH
UID:0af67161-9206-42f8-9978-c87d4f32070b
X-WR-CALNAME:JCal Pro Calendar
X-WR-CALDESC:Your online events calendar
X-WR-TIMEZONE:Europe/Moscow
BEGIN:VTIMEZONE
TZID:Europe/Moscow
BEGIN:STANDARD
TZNAME:MSK
DTSTART:20240721T182009
TZOFFSETFROM:+0000
TZOFFSETTO:+0300
END:STANDARD
END:VTIMEZONE
BEGIN:VEVENT
UID:20211001T090000MSK-5681LVSiRF@https://cnppm.iro51.ru/
DTSTAMP:20260422T182009Z
CATEGORIES:Форум
DESCRIPTION:<p>Целевая аудитория: педагогические и руководящие работники об
 разовательных организаций<br />Организатор: ЦНППМ ГАУДПО МО «ИРО»<br />Рег
 истрация: <a href='https://iro51.ru/'>https://iro51.ru/</a><br /><br /></p
 >
DTSTART;TZID=Europe/Moscow:20211001T090000
DTEND;TZID=Europe/Moscow:20211001T120000
SUMMARY:Форум «Центр непрерывного повышения педагогического мастерства как 
 новое пространство возможностей для совершенствования и профессионального 
 роста»
URL:https://cnppm.iro51.ru/kalendar-sobytij/25-forum/6-forum-tsentr-neprery
 vnogo-povysheniya-pedagogicheskogo-masterstva-kak-novoe-prostranstvo-vozmo
 zhnostej-dlya-sovershenstvovaniya-i-professionalnogo-rosta.html
X-ALT-DESC;FMTTYPE=TEXT/HTML:<p>Целевая аудитория: педагогические и руковод
 ящие работники образовательных организаций<br />Организатор: ЦНППМ ГАУДПО 
 МО «ИРО»<br />Регистрация: <a href='https://iro51.ru/'>https://iro51.ru/</
 a><br /><br /></p>
END:VEVENT
END:VCALENDAR
