BEGIN:VCALENDAR
VERSION:2.0
PRODID:-//https://cnppm.iro51.ru//NONSGML kigkonsult.se iCalcreator 2.29.14
 //
CALSCALE:GREGORIAN
METHOD:PUBLISH
UID:8a3d15f5-a937-4a29-947c-473b955df55c
X-WR-CALNAME:JCal Pro Calendar
X-WR-CALDESC:Your online events calendar
X-WR-TIMEZONE:Europe/Moscow
BEGIN:VTIMEZONE
TZID:Europe/Moscow
BEGIN:STANDARD
TZNAME:MSK
DTSTART:20240720T064225
TZOFFSETFROM:+0000
TZOFFSETTO:+0300
END:STANDARD
END:VTIMEZONE
BEGIN:VEVENT
UID:20211118T170000MSK-2194XACcX0@https://cnppm.iro51.ru/
DTSTAMP:20260421T064225Z
CATEGORIES:Конференция
DESCRIPTION:<p>Целевая аудитория: педагоги-библиотекари образовательных орг
 анизаций\, специалисты\, занимающиеся проблемами детского чтения<br />Орга
 низатор: ГОБУК «Мурманская областная детско-юношеская библиотека им. В. П.
  Махаевой<br />Регистрация: <a href='https://www.libkids51.ru/'>https://ww
 w.libkids51.ru/</a></p>
DTSTART;TZID=Europe/Moscow:20211118T000000
DTEND;TZID=Europe/Moscow:20211118T235959
SUMMARY:Межрегиональная научно-практическая конференция «Детская библиотека
  и детское чтение- в настоящем для будущего»
URL:https://cnppm.iro51.ru/kalendar-sobytij/28-konferentsiya/15-mezhregiona
 lnaya-nauchno-prakticheskaya-konferentsiya-detskaya-biblioteka-i-detskoe-c
 htenie-v-nastoyashchem-dlya-budushchego.html
X-ALT-DESC;FMTTYPE=TEXT/HTML:<p>Целевая аудитория: педагоги-библиотекари об
 разовательных организаций\, специалисты\, занимающиеся проблемами детского
  чтения<br />Организатор: ГОБУК «Мурманская областная детско-юношеская биб
 лиотека им. В. П. Махаевой<br />Регистрация: <a href='https://www.libkids5
 1.ru/'>https://www.libkids51.ru/</a></p>
END:VEVENT
END:VCALENDAR
