BEGIN:VCALENDAR
VERSION:2.0
PRODID:-//https://cnppm.iro51.ru//NONSGML kigkonsult.se iCalcreator 2.29.14
 //
CALSCALE:GREGORIAN
METHOD:PUBLISH
UID:25964229-d9f1-44c3-b3d7-9f82c4be957a
X-WR-CALNAME:JCal Pro Calendar
X-WR-CALDESC:Your online events calendar
X-WR-TIMEZONE:Europe/Moscow
BEGIN:VTIMEZONE
TZID:Europe/Moscow
BEGIN:STANDARD
TZNAME:MSK
DTSTART:20240719T202312
TZOFFSETFROM:+0000
TZOFFSETTO:+0300
END:STANDARD
END:VTIMEZONE
BEGIN:VEVENT
UID:20211125T120000MSK-0424GnBFPX@https://cnppm.iro51.ru/
DTSTAMP:20260420T202312Z
CATEGORIES:Семинар
DESCRIPTION:<p>Целевая аудитория: руководители\, педагогические Работники О
 О<br />Организатор: ГАУДПО МО «Институт развития образования»<br />Регистр
 ация:</p>
DTSTART;TZID=Europe/Moscow:20211125T120000
DTEND;TZID=Europe/Moscow:20211125T160000
SUMMARY:Семинар «Цифровая образовательная среда новые возможности формирова
 ния SoftSkills»
URL:https://cnppm.iro51.ru/kalendar-sobytij/24-seminar/16-seminar-tsifrovay
 a-obrazovatelnaya-sreda-novye-vozmozhnosti-formirovaniya-softskills.html
X-ALT-DESC;FMTTYPE=TEXT/HTML:<p>Целевая аудитория: руководители\, педагогич
 еские Работники ОО<br />Организатор: ГАУДПО МО «Институт развития образова
 ния»<br />Регистрация:</p>
END:VEVENT
END:VCALENDAR
