BEGIN:VCALENDAR
VERSION:2.0
PRODID:-//https://cnppm.iro51.ru//NONSGML kigkonsult.se iCalcreator 2.29.14
 //
CALSCALE:GREGORIAN
METHOD:PUBLISH
UID:e53a174c-85d7-4da5-b6de-936c8e0ddee1
X-WR-CALNAME:JCal Pro Calendar
X-WR-CALDESC:Your online events calendar
X-WR-TIMEZONE:Europe/Moscow
BEGIN:VTIMEZONE
TZID:Europe/Moscow
BEGIN:STANDARD
TZNAME:MSK
DTSTART:20240719T214745
TZOFFSETFROM:+0000
TZOFFSETTO:+0300
END:STANDARD
END:VTIMEZONE
BEGIN:VEVENT
UID:20211126T123000MSK-4882xvbzVx@https://cnppm.iro51.ru/
DTSTAMP:20260420T214745Z
CATEGORIES:Семинар
DESCRIPTION:<p>Целевая аудитория: педагогические работники ОО<br />Организа
 тор: ГАУДПО МО «Институт развития образования»<br />Регистрация: <a href='
 https://ez.iro51.ru/activity/registration/sr/85'>https://ez.iro51.ru/activ
 ity/registration/sr/85</a></p>
DTSTART;TZID=Europe/Moscow:20211126T123000
DTEND;TZID=Europe/Moscow:20211126T163000
SUMMARY:Семинар «Педагогическая поддержка семьи и повышение компетентности 
 родителей в вопросах развития и образования детей\, в том числе детей с ОВ
 З и инвалидностью\, в образовательных организациях»
URL:https://cnppm.iro51.ru/kalendar-sobytij/24-seminar/17-seminar-pedagogic
 heskaya-podderzhka-semi-i-povyshenie-kompetentnosti-roditelej-v-voprosakh-
 razvitiya-i-obrazovaniya-detej-v-tom-chisle-detej-s-ovz-i-invalidnostyu-v-
 obrazovatelnykh-organizatsiyakh.html
X-ALT-DESC;FMTTYPE=TEXT/HTML:<p>Целевая аудитория: педагогические работники
  ОО<br />Организатор: ГАУДПО МО «Институт развития образования»<br />Регис
 трация: <a href='https://ez.iro51.ru/activity/registration/sr/85'>https://
 ez.iro51.ru/activity/registration/sr/85</a></p>
END:VEVENT
END:VCALENDAR
