BEGIN:VCALENDAR
VERSION:2.0
PRODID:-//https://cnppm.iro51.ru//NONSGML kigkonsult.se iCalcreator 2.29.14
 //
CALSCALE:GREGORIAN
METHOD:PUBLISH
UID:49bf125b-78e1-4ee4-8361-23d9609a5676
X-WR-CALNAME:JCal Pro Calendar
X-WR-CALDESC:Your online events calendar
X-WR-TIMEZONE:Europe/Moscow
BEGIN:VTIMEZONE
TZID:Europe/Moscow
BEGIN:STANDARD
TZNAME:MSK
DTSTART:20240719T002147
TZOFFSETFROM:+0000
TZOFFSETTO:+0300
END:STANDARD
END:VTIMEZONE
BEGIN:VEVENT
UID:20220217T150000MSK-5164WU8xVC@https://cnppm.iro51.ru/
DTSTAMP:20260420T002147Z
CATEGORIES:Конференция
DESCRIPTION:<p>Целевая аудитория: педагоги<br />Ссылка на участие:<a href='
 https://uchitel.club/'><strong>https://uchitel.club/</strong></a></p>
DTSTART;TZID=Europe/Moscow:20220217T120000
DTEND;TZID=Europe/Moscow:20220217T173000
SUMMARY:Онлайн-конференция «Инклюзивное измерение современного образователь
 ного пространства»
URL:https://cnppm.iro51.ru/kalendar-sobytij/28-konferentsiya/24-onlajn-konf
 erentsiya-inklyuzivnoe-izmerenie-sovremennogo-obrazovatelnogo-prostranstva
 .html
X-ALT-DESC;FMTTYPE=TEXT/HTML:<p>Целевая аудитория: педагоги<br />Ссылка на 
 участие:<a href='https://uchitel.club/'><strong>https://uchitel.club/</str
 ong></a></p>
END:VEVENT
END:VCALENDAR
