BEGIN:VCALENDAR
VERSION:2.0
PRODID:-//https://cnppm.iro51.ru//NONSGML kigkonsult.se iCalcreator 2.29.14
 //
CALSCALE:GREGORIAN
METHOD:PUBLISH
UID:d020d125-53c6-41db-902b-39bb2817f295
X-WR-CALNAME:JCal Pro Calendar
X-WR-CALDESC:Your online events calendar
X-WR-TIMEZONE:Europe/Moscow
BEGIN:VTIMEZONE
TZID:Europe/Moscow
BEGIN:STANDARD
TZNAME:MSK
DTSTART:20240719T232313
TZOFFSETFROM:+0000
TZOFFSETTO:+0300
END:STANDARD
END:VTIMEZONE
BEGIN:VEVENT
UID:20210920T120000MSK-1458ucB4MR@https://cnppm.iro51.ru/
DTSTAMP:20260420T232313Z
CATEGORIES:Олимпиада
DESCRIPTION:<p>Целевая аудитория: учителя математики\, информатики и англий
 ского языка<br />Организатор:&nbsp\;НИУ «Высшая школа экономики» совместно
  с наукой Пермского края</p>
DTSTART;TZID=Europe/Moscow:20210920T120000
DTEND;TZID=Europe/Moscow:20211031T235900
SUMMARY:Международная олимпиада учителей-предметников «ПРОФИ-2021»
URL:https://cnppm.iro51.ru/kalendar-sobytij/22-olimpiada/20-mezhdunarodnaya
 -olimpiada-uchitelej-predmetnikov-profi-2021.html
X-ALT-DESC;FMTTYPE=TEXT/HTML:<p>Целевая аудитория: учителя математики\, инф
 орматики и английского языка<br />Организатор:&nbsp\;НИУ «Высшая школа эко
 номики» совместно с наукой Пермского края</p>
END:VEVENT
BEGIN:VEVENT
UID:20211029T123000MSK-2047jAk43M@https://cnppm.iro51.ru/
DTSTAMP:20260420T232313Z
CATEGORIES:Семинар
DESCRIPTION:<p>Целевая аудитория: педагогические работники организаций допо
 лнительного образования<br />Организатор: ГАУДПО МО «Институт развития обр
 азования»<br />Регистрация: <a href='https://ez.iro51.ru/activity/registra
 tion/sr/92'>https://ez.iro51.ru/activity/registration/sr/92</a></p>
DTSTART;TZID=Europe/Moscow:20211029T123000
DTEND;TZID=Europe/Moscow:20211029T153000
SUMMARY:Семинар «Технологии использования дополнительного образования как р
 есурса профессиональной ориентации и профессионального самоопределения дет
 ей\, в том числе детей с ограниченными возможностями здоровья и инвалиднос
 тью»
URL:https://cnppm.iro51.ru/kalendar-sobytij/24-seminar/10-seminar-tekhnolog
 ii-ispolzovaniya-dopolnitelnogo-obrazovaniya-kak-resursa-professionalnoj-o
 rientatsii-i-professionalnogo-samoopredeleniya-detej-v-tom-chisle-detej-s-
 ogranichennymi-vozmozhnostyami-zdorovya-i-invalidnostyu.html
X-ALT-DESC;FMTTYPE=TEXT/HTML:<p>Целевая аудитория: педагогические работники
  организаций дополнительного образования<br />Организатор: ГАУДПО МО «Инст
 итут развития образования»<br />Регистрация: <a href='https://ez.iro51.ru/
 activity/registration/sr/92'>https://ez.iro51.ru/activity/registration/sr/
 92</a></p>
END:VEVENT
END:VCALENDAR
