BEGIN:VCALENDAR
VERSION:2.0
PRODID:-//https://cnppm.iro51.ru//NONSGML kigkonsult.se iCalcreator 2.29.14
 //
CALSCALE:GREGORIAN
METHOD:PUBLISH
UID:65557461-2a15-4fba-9a05-f5d38034b3fd
X-WR-CALNAME:JCal Pro Calendar
X-WR-CALDESC:Your online events calendar
X-WR-TIMEZONE:Europe/Moscow
BEGIN:VTIMEZONE
TZID:Europe/Moscow
BEGIN:STANDARD
TZNAME:MSK
DTSTART:20240719T202153
TZOFFSETFROM:+0000
TZOFFSETTO:+0300
END:STANDARD
END:VTIMEZONE
BEGIN:VEVENT
UID:20220912T120000MSK-4807LU3zGa@https://cnppm.iro51.ru/
DTSTAMP:20260420T202153Z
CATEGORIES:Семинар
CATEGORIES:Вебинар
DESCRIPTION:<p><span style='color: #3366ff\;'><a href='https://ez.iro51.ru/
 activity/registration/sr/344' style='color: #3366ff\;'>Регистрация</a></sp
 an></p>
DTSTART;TZID=Europe/Moscow:20220912T120000
DTEND;TZID=Europe/Moscow:20220912T130000
SUMMARY:Новые воспитательные технологии и современные тенденции воспитания 
 в школе
URL:https://cnppm.iro51.ru/kalendar-sobytij/24-seminar/56-novye-vospitateln
 ye-tekhnologii-i-sovremennye-tendentsii-vospitaniya-v-shkole.html
X-ALT-DESC;FMTTYPE=TEXT/HTML:<p><span style='color: #3366ff\;'><a href='htt
 ps://ez.iro51.ru/activity/registration/sr/344' style='color: #3366ff\;'>Ре
 гистрация</a></span></p>
END:VEVENT
BEGIN:VEVENT
UID:20220913T100000MSK-1576W7vWBx@https://cnppm.iro51.ru/
DTSTAMP:20260420T202153Z
CATEGORIES:Семинар
DESCRIPTION:<p><span style='color: #3366ff\;'><a href='https://apkpro.ru/ed
 ucational-events/seminar-vektor-obrazovaniya-vyzovy-trendy-perspektivy-sos
 toitsya-13-sentyabrya/' style='color: #3366ff\;'>Регистрация</a></span></p
 >
DTSTART;TZID=Europe/Moscow:20220913T100000
DTEND;TZID=Europe/Moscow:20220913T110000
SUMMARY:Семинар «Вектор образования: вызовы\, тренды\, перспективы»
URL:https://cnppm.iro51.ru/kalendar-sobytij/24-seminar/57-seminar-vektor-ob
 razovaniya-vyzovy-trendy-perspektivy.html
X-ALT-DESC;FMTTYPE=TEXT/HTML:<p><span style='color: #3366ff\;'><a href='htt
 ps://apkpro.ru/educational-events/seminar-vektor-obrazovaniya-vyzovy-trend
 y-perspektivy-sostoitsya-13-sentyabrya/' style='color: #3366ff\;'>Регистра
 ция</a></span></p>
END:VEVENT
END:VCALENDAR
